BEGIN:VCALENDAR
VERSION:2.0
PRODID:-//wp-events-plugin.com//7.2.3.1//EN
TZID:Europe/London
X-WR-TIMEZONE:Europe/London
BEGIN:VEVENT
UID:106@raasay.com
DTSTART;TZID=Europe/London:20250627T184500
DTEND;TZID=Europe/London:20250627T204500
DTSTAMP:20250602T175241Z
URL:https://raasay.com/events/raasay-community-cinema-a-streetcar-named-de
 sire/
SUMMARY:Raasay Community Cinema - A Streetcar Named Desire
DESCRIPTION:Raasay Community Cinema\nJune is our first offering from Nation
 al Theatre Live and we're very excited to be showing :\nA Streetcar Named 
 Desire\nWhen? 27th June. Doors open 6.45pm with the show starting at 7pm\n
 \n
LOCATION:Raasay Community Hall\,  \,   Raasay Community Hall\, United Kingd
 om
X-APPLE-STRUCTURED-LOCATION;VALUE=URI;X-ADDRESS= \,   Raasay Community Hall
 \, United Kingdom;X-APPLE-RADIUS=100;X-TITLE=Raasay Community Hall:geo:0,0
END:VEVENT
BEGIN:VTIMEZONE
TZID:Europe/London
X-LIC-LOCATION:Europe/London
BEGIN:DAYLIGHT
DTSTART:20250330T020000
TZOFFSETFROM:+0000
TZOFFSETTO:+0100
TZNAME:BST
END:DAYLIGHT
END:VTIMEZONE
END:VCALENDAR