BEGIN:VCALENDAR
VERSION:2.0
PRODID:-//wp-events-plugin.com//7.2.3.1//EN
TZID:Europe/London
X-WR-TIMEZONE:Europe/London
BEGIN:VEVENT
UID:17@raasay.com
DTSTART;TZID=Europe/London:20250215T110000
DTEND;TZID=Europe/London:20250215T150000
DTSTAMP:20250214T193722Z
URL:https://raasay.com/events/sewing-workshop-places-still-available/
SUMMARY:Sewing Workshop **Fully Booked**
DESCRIPTION:Sewing Workshop with Fenja!\n\nSuitable for beginners and advan
 ced. Bring your own sewing machine if you've got one or Fenja can provide 
 one for you.\n\nMessage Fenja to book your place :\n\nmayfen@web.de
LOCATION:Raasay Community Hall\,  \,   Raasay Community Hall\, United Kingd
 om
X-APPLE-STRUCTURED-LOCATION;VALUE=URI;X-ADDRESS= \,   Raasay Community Hall
 \, United Kingdom;X-APPLE-RADIUS=100;X-TITLE=Raasay Community Hall:geo:0,0
END:VEVENT
BEGIN:VTIMEZONE
TZID:Europe/London
X-LIC-LOCATION:Europe/London
BEGIN:STANDARD
DTSTART:20241027T010000
TZOFFSETFROM:+0100
TZOFFSETTO:+0000
TZNAME:GMT
END:STANDARD
END:VTIMEZONE
END:VCALENDAR